BEGIN:VCALENDAR
VERSION:2.0
PRODID:EXERCÍCIO FÍSICO - AULAS DE GRUPO
X-WR-CALNAME:EXERCÍCIO FÍSICO - AULAS DE GRUPO
X-WR-TIMEZONE:Europe/Lisbon
X-PUBLISHED-TTL:P1W
BEGIN:VTIMEZONE
TZID:Europe/Lisbon
X-LIC-LOCATION:Europe/Lisbon
END:VTIMEZONE
BEGIN:VEVENT
UID:69ea95cb629b1
DTSTART;VALUE=DATE:20260323
SEQUENCE:0
TRANSP:OPAQUE
DTEND;VALUE=DATE:20260324
SUMMARY:EXERCÍCIO FÍSICO - AULAS DE GRUPO
CLASS:PUBLIC
DESCRIPTION:A Junta de Freguesia irá promover aulas de exercício físico 
 em grupo\, para todas as idades\, a partir do próximo dia 23 de março.A 
 atividade física não é apenas uma questão de estética\, mas um pilar 
 essencial da saúde pública. Assim\, estas aulas terão como principais o
 bjetivos: Combater a obesidade em todas as idades\; Prevenção de doença
 s crónicas\; Prevenção da perda de mobilidade\; Prevenção dos problem
 as de saúde mental\; Combater o isolamento social\;Junte-se ao projeto \"
 APERTA CONTIGO - PELA TUA SAÚDE\"\, e melhore os seus índices de qualida
 de de vida\, com o acompanhamento de excelência de um técnico especialis
 ta em exercício físico.INSCRIÇÕES (mensalidades de 10€): freguesiasa
 ntacruzpv@gmail.com\; No local do treino\;Contamos convosco!Santa Cruz em 
 Renovação!
X-MICROSOFT-CDO-ALLDAYEVENT:TRUE
DTSTAMP:20260423T215731Z
END:VEVENT
END:VCALENDAR