BEGIN:VCALENDAR
VERSION:2.0
PRODID:AULA DE DANÇA PARA CRIANÇAS 
X-WR-CALNAME:AULA DE DANÇA PARA CRIANÇAS 
X-WR-TIMEZONE:Europe/Lisbon
X-PUBLISHED-TTL:P1W
BEGIN:VTIMEZONE
TZID:Europe/Lisbon
X-LIC-LOCATION:Europe/Lisbon
END:VTIMEZONE
BEGIN:VEVENT
UID:69ea9806c43fb
DTSTART;VALUE=DATE:20260322
SEQUENCE:0
TRANSP:OPAQUE
DTEND;VALUE=DATE:20260323
SUMMARY:AULA DE DANÇA PARA CRIANÇAS 
CLASS:PUBLIC
DESCRIPTION:A Junta de Freguesia irá promover uma aula de dança\, totalme
 nte gratuita\, para crianças (dos 3 aos 5 anos)\, no próximo dia 22 de m
 arço\, pelas 10h00\, no Salão de Festas de Santa Luzia. Esta aula tem co
 mo objetivo promover o desenvolvimento motor\, emocional\, social e criati
 vo das crianças através da dança criativa\, explorando o corpo\, o espa
 ço e a imaginação.Juntem-se a nós e\, através da energia da professor
 a Inês Russo\, desfrutem de um momento único.Inscrições (limitadas):- 
 freguesiasantacruzpv@gmail.com\;Santa Cruz em Renovação!
X-MICROSOFT-CDO-ALLDAYEVENT:TRUE
DTSTAMP:20260423T220702Z
END:VEVENT
END:VCALENDAR