BEGIN:VCALENDAR
VERSION:2.0
PRODID:ENCONTRO DE POETAS DA ILHA
X-WR-CALNAME:ENCONTRO DE POETAS DA ILHA
X-WR-TIMEZONE:Europe/Lisbon
X-PUBLISHED-TTL:P1W
BEGIN:VTIMEZONE
TZID:Europe/Lisbon
X-LIC-LOCATION:Europe/Lisbon
END:VTIMEZONE
BEGIN:VEVENT
UID:69ea97650fd14
DTSTART;VALUE=DATE:20260321
SEQUENCE:0
TRANSP:OPAQUE
DTEND;VALUE=DATE:20260322
SUMMARY:ENCONTRO DE POETAS DA ILHA
CLASS:PUBLIC
DESCRIPTION:A Junta de Freguesia irá promover\, em comemoração do Dia Mu
 ndial da Poesia\, um \"Encontro de Poetas da Ilha\"\, no próximo dia 21 d
 e março\, pelas 20h00\, no Edifício da Junta de Freguesia. Juntem-se a e
 ste serão maravilhoso\, com entrada gratuita\, e desfrutem de poesia orig
 inal terceirense\, com acompanhamento musical de Joel Moura. Santa Cruz em
  Renovação!
X-MICROSOFT-CDO-ALLDAYEVENT:TRUE
DTSTAMP:20260423T220421Z
END:VEVENT
END:VCALENDAR